BEGIN:VCALENDAR
VERSION:2.0
PRODID:-//Squarespace Inc/Squarespace 6//v6//EN
BEGIN:VEVENT
UID:602390b2ce57f71da2e35d88@squarespace.com
DTSTAMP:20210210T080423Z
DTSTART:20210321T000000Z
DTEND:20210321T090000Z
SUMMARY:Perth Upmarket
END:VEVENT
END:VCALENDAR
