BEGIN:VCALENDAR
VERSION:2.0
PRODID:-//Squarespace Inc/Squarespace 6//v6//EN
BEGIN:VEVENT
UID:5e956f84ff2b65475ee8cad0@squarespace.com
DTSTAMP:20201214T092505Z
DTSTART:20200913T020000Z
DTEND:20200913T080000Z
SUMMARY:Perth Upmarket
END:VEVENT
END:VCALENDAR
